Workbook

Sheet Income Statement
A1: FORECASTED INCOME STATEMENT | I1: Assumptions | K1: Assumption Explanations | M1: GRADING
C3: YEAR 1 | D3: YEAR 2 | E3: YEAR 3 | F3: YEAR 4 | G3: YEAR 5 | M3: Cell Ref. | N3: Round | O3: Correct #s | P3: Correct/Incorrect | Q3: Points Awarded
A4: Revenue | C4: 150000 | D4: =(C4*0.03)+C4 -> 154500 | E4: =(D4*0.03)+D4 -> 159135 | F4: =(E4*0.05)+E4 -> 167091.75 | G4: =(F4*0.05)+F4 -> 175446.34 | M4: GM - Yr 1 | N4: =ROUND(C6,0) -> 82500 | O4: 82500 | P4: =IF(N4=O4, "CORRECT", "INCORRECT") -> CORRECT | Q4: =IF(N4=O4, 1,0) -> 1
A5: Cost of Sales | C5: =C4*0.45 -> 67500 | D5: =(C5*0.03)+C5 -> 69525 | E5: =(D5*0.03)+D5 -> 71610.75 | F5: =(E5*0.05)+E5 -> 75191.288 | G5: =(F5*0.05)+F5 -> 78950.852 | M5: GM - Yr 2 | N5: =ROUND(D6,0) -> 84975 | O5: 84975 | P5: =IF(N5=O5, "CORRECT", "INCORRECT") -> CORRECT | Q5: =IF(N5=O5, 1,0) -> 1
A6: Gross Margin | C6: =C4-C5 -> 82500 | D6: =D4-D5 -> 84975 | E6: =E4-E5 -> 87524.25 | F6: =F4-F5 -> 91900.462 | G6: =G4-G5 -> 96495.486 | M6: GM - Yr 3 | N6: =ROUND(E6,0) -> 87524 | O6: 87524 | P6: =IF(N6=O6, "CORRECT", "INCORRECT") -> CORRECT | Q6: =IF(N6=O6, 1,0) -> 1
A7: Operating Expenses | M7: GM - Yr 4 | N7: =ROUND(F6,0) -> 91900 | O7: 91900 | P7: =IF(N7=O7, "CORRECT", "INCORRECT") -> CORRECT | Q7: =IF(N7=O7, 1,0) -> 1
A8: Advertising | C8: =C4*0.04 -> 6000 | D8: =D4*0.04 -> 6180 | E8: =E4*0.04 -> 6365.4 | F8: =F4*0.04 -> 6683.67 | G8: =G4*0.04 -> 7017.8535 | M8: GM - Yr 5 | N8: =ROUND(G6,0) -> 96495 | O8: 96495 | P8: =IF(N8=O8, "CORRECT", "INCORRECT") -> CORRECT | Q8: =IF(N8=O8, 1,0) -> 1
A9: Equipment Rental | C9: =500*12 -> 6000 | D9: =500*12 -> 6000 | E9: =750*12 -> 9000 | F9: =750*12 -> 9000 | G9: =750*12 -> 9000
A10: Wages | C10: =2*4*12*100 -> 9600 | D10: =2*4*12*100 -> 9600 | E10: =2*4*12*100 -> 9600 | F10: =4*3*12*100 -> 14400 | G10: =4*3*12*100 -> 14400 | M10: Operating Income - Yr 1 | N10: =ROUND(C$15,0) -> 39900 | O10: 39900 | P10: =IF(N10=O10, "CORRECT", "INCORRECT") -> CORRECT | Q10: =IF(N10=O10, 1,0) -> 1
A11: Office Rent | C11: =1200*12 -> 14400 | D11: =1200*12 -> 14400 | E11: =12*1200 -> 14400 | F11: =12*1200 -> 14400 | G11: =12*1200 -> 14400 | M11: Operating Income - Yr 2 | N11: =ROUND(D$15,0) -> 42195 | O11: 42195 | P11: =IF(N11=O11, "CORRECT", "INCORRECT") -> CORRECT | Q11: =IF(N11=O11, 1,0) -> 1
A12: Utilities | C12: =300*12 -> 3600 | D12: =300*12 -> 3600 | E12: =300*12 -> 3600 | F12: =300*12 -> 3600 | G12: =300*12 -> 3600 | M12: Operating Income - Yr 3 | N12: =ROUND(E$15,0) -> 37559 | O12: 37559 | P12: =IF(N12=O12, "CORRECT", "INCORRECT") -> CORRECT | Q12: =IF(N12=O12, 1,0) -> 1
A13: Insurance Expense | C13: 0 | D13: 0 | E13: =12000/3 -> 4000 | F13: =12000/3 -> 4000 | G13: =12000/3 -> 4000 | M13: Operating Income - Yr 4 | N13: =ROUND(F$15,0) -> 36817 | O13: 36817 | P13: =IF(N13=O13, "CORRECT", "INCORRECT") -> CORRECT | Q13: =IF(N13=O13, 1,0) -> 1
A14: Depreciation | C14: 3000 | D14: 3000 | E14: 3000 | F14: 3000 | G14: 3000 | M14: Operating Income - Yr 5 | N14: =ROUND(G$15,0) -> 41078 | O14: 41078 | P14: =IF(N14=O14, "CORRECT", "INCORRECT") -> CORRECT | Q14: =IF(N14=O14, 1,0) -> 1
A15: Operating Income | C15: =C6-SUM(C7:C14) -> 39900 | D15: =D6-SUM(D7:D14) -> 42195 | E15: =E6-SUM(E7:E14) -> 37558.85 | F15: =F6-SUM(F7:F14) -> 36816.792 | G15: =G6-SUM(G7:G14) -> 41077.632
A16: Interest Expense | C16: =60000*0.03 -> 1800 | D16: =60000*0.03 -> 1800 | E16: =60000*0.03 -> 1800 | F16: 0 | G16: 0 | M16: Net Income - Yr 1 | N16: =ROUND(C$19,0) -> 24765 | O16: 24765 | P16: =IF(N16=O16, "CORRECT", "INCORRECT") -> CORRECT | Q16: =IF(N16=O16, 1,0) -> 1
A17: Income before taxes | C17: =C15-C16 -> 38100 | D17: =D15-D16 -> 40395 | E17: =E15-E16 -> 35758.85 | F17: =F15-F16 -> 36816.792 | G17: =G15-G16 -> 41077.632 | M17: Net Income - Yr 2 | N17: =ROUND(D$19,0) -> 26257 | O17: 26257 | P17: =IF(N17=O17, "CORRECT", "INCORRECT") -> CORRECT | Q17: =IF(N17=O17, 1,0) -> 1
A18: Income taxes | C18: =C17*0.35 -> 13335 | D18: =D17*0.35 -> 14138.25 | E18: =E17*0.35 -> 12515.597 | F18: =F17*0.35 -> 12885.877 | G18: =G17*0.35 -> 14377.171 | M18: Net Income - Yr 3 | N18: =ROUND(E$19,0) -> 23243 | O18: 23243 | P18: =IF(N18=O18, "CORRECT", "INCORRECT") -> CORRECT | Q18: =IF(N18=O18, 1,0) -> 1
A19: Net Income | C19: =C17-C18 -> 24765 | D19: =D17-D18 -> 26256.75 | E19: =E17-E18 -> 23243.253 | F19: =F17-F18 -> 23930.915 | G19: =G17-G18 -> 26700.461 | M19: Net Income - Yr 4 | N19: =ROUND(F$19,0) -> 23931 | O19: 23931 | P19: =IF(N19=O19, "CORRECT", "INCORRECT") -> CORRECT | Q19: =IF(N19=O19, 1,0) -> 1
M20: Net Income - Yr 5 | N20: =ROUND(G$19,0) -> 26700 | O20: 26700 | P20: =IF(N20=O20, "CORRECT", "INCORRECT") -> CORRECT | Q20: =IF(N20=O20, 1,0) -> 1
P21: TOTAL | Q21: =SUM(Q4:Q20) -> 15

Sheet Balance Sheet
A1: FORECASTED BALANCE SHEET | I1: Assumptions | K1: Assumption Explanations | M1: GRADING
C3: YEAR 1 | D3: YEAR 2 | E3: YEAR 3 | F3: YEAR 4 | G3: YEAR 5 | M3: Cell Ref. | N3: Round | O3: Correct #s | P3: Correct/Incorrect | Q3: Points Awarded
A4: Assets | M4: Assets - Yr 1 | N4: =ROUND(C$11,0) -> 133400 | O4: 133400 | P4: =IF(N4=O4, "CORRECT", "INCORRECT") -> CORRECT | Q4: =IF(N4=O4, 1,0) -> 1
A5: Cash | C5: ='Cashflow Statement'!C29 -> 101400 | D5: ='Cashflow Statement'!D29 -> 99960 | E5: ='Cashflow Statement'!E29 -> 124580.6 | F5: ='Cashflow Statement'!F29 -> 138081.8 | G5: ='Cashflow Statement'!G29 -> 173273.55 | M5: Assets - Yr 2 | N5: =ROUND(D$11,0) -> 142960 | O5: 142960 | P5: =IF(N5=O5, "CORRECT", "INCORRECT") -> CORRECT | Q5: =IF(N5=O5, 1,0) -> 1
A6: Accounts Receivable | C6: 10000 | D6: 12000 | E6: 8000 | F6: 6000 | G6: 10000 | M6: Assets - Yr 3 | N6: =ROUND(E$11,0) -> 156581 | O6: 156581 | P6: =IF(N6=O6, "CORRECT", "INCORRECT") -> CORRECT | Q6: =IF(N6=O6, 1,0) -> 1
A7: Prepaid Insurance | C7: 0 | D7: 12000 | E7: 8000 | F7: ='Income Statement'!$F$13 -> 4000 | G7: 0 | M7: Assets - Yr 4 | N7: =ROUND(F$11,0) -> 161082 | O7: 161082 | P7: =IF(N7=O7, "CORRECT", "INCORRECT") -> CORRECT | Q7: =IF(N7=O7, 1,0) -> 1
A8: Current Assets | C8: =SUM(C5:C7) -> 111400 | D8: =SUM(D5:D7) -> 123960 | E8: =SUM(E5:E7) -> 140580.6 | F8: =SUM(F5:F7) -> 148081.8 | G8: =SUM(G5:G7) -> 183273.55 | M8: Assets - Yr 5 | N8: =ROUND(G$11,0) -> 193274 | O8: 193274 | P8: =IF(N8=O8, "CORRECT", "INCORRECT") -> CORRECT | Q8: =IF(N8=O8, 1,0) -> 1
A9: Furniture & Fixtures (net) | C9: =15000-1000 -> 14000 | D9: =C9-1000 -> 13000 | E9: =D9-1000 -> 12000 | F9: =E9-1000 -> 11000 | G9: =F9-1000 -> 10000 | K9: Starts depriciation $1000 a year starting year 1 For 15 years
A10: Equipment (net) | C10: =10000-2000 -> 8000 | D10: =C10-2000 -> 6000 | E10: =D10-2000 -> 4000 | F10: =E10-2000 -> 2000 | G10: =F10-2000 -> 0 | K10: Depriciates $2000 every year starting year1 | M10: Liabilities - Yr 1 | N10: =ROUND(C$20,0) -> 78635 | O10: 78635 | P10: =IF(N10=O10, "CORRECT", "INCORRECT") -> CORRECT | Q10: =IF(N10=O10, 1,0) -> 1
A11: Total Assets | C11: =C8+C9+C10 -> 133400 | D11: =D8+D9+D10 -> 142960 | E11: =E8+E9+E10 -> 156580.6 | F11: =F8+F9+F10 -> 161081.8 | G11: =G8+G9+G10 -> 193273.55 | M11: Liabilities - Yr 2 | N11: =ROUND(D$20,0) -> 61938 | O11: 61938 | P11: =IF(N11=O11, "CORRECT", "INCORRECT") -> CORRECT | Q11: =IF(N11=O11, 1,0) -> 1
M12: Liabilities - Yr 3 | N12: =ROUND(E$20,0) -> 42316 | O12: 42316 | P12: =IF(N12=O12, "CORRECT", "INCORRECT") -> CORRECT | Q12: =IF(N12=O12, 1,0) -> 1
A13: Liabilities | M13: Liabilities - Yr 4 | N13: =ROUND(F$20,0) -> 22886 | O13: 22886 | P13: =IF(N13=O13, "CORRECT", "INCORRECT") -> CORRECT | Q13: =IF(N13=O13, 1,0) -> 1
A14: Accounts payable | C14: 2000 | D14: 4000 | E14: 5000 | F14: 6000 | G14: 9000 | M14: Liabilities - Yr 5 | N14: =ROUND(G$20,0) -> 28377 | O14: 28377 | P14: =IF(N14=O14, "CORRECT", "INCORRECT") -> CORRECT | Q14: =IF(N14=O14, 1,0) -> 1
A15: Customer deposits | C15: 1500 | D15: 2000 | E15: 3000 | F15: 4000 | G15: 5000
A16: Interest payable | C16: ='Income Statement'!$C$16 -> 1800 | D16: ='Income Statement'!$D$16 -> 1800 | E16: ='Income Statement'!$E$16 -> 1800 | F16: 0 | G16: 0 | M16: S/E & Liab.- Yr 1 | N16: =ROUND(C$26,0) -> 133400 | O16: 133400 | P16: =IF(N16=O16, "CORRECT", "INCORRECT") -> CORRECT | Q16: =IF(N16=O16, 1,0) -> 1
A17: Taxes payable | C17: ='Income Statement'!$C$18 -> 13335 | D17: ='Income Statement'!$D$18 -> 14138.25 | E17: ='Income Statement'!$E$18 -> 12515.597 | F17: ='Income Statement'!$F$18 -> 12885.877 | G17: ='Income Statement'!$G$18 -> 14377.171 | M17: S/E & Liab.- Yr 2 | N17: =ROUND(D$26,0) -> 142960 | O17: 142960 | P17: =IF(N17=O17, "CORRECT", "INCORRECT") -> CORRECT | Q17: =IF(N17=O17, 1,0) -> 1
A18: Current Liabilities | C18: =SUM(C14:C17) -> 18635 | D18: =SUM(D14:D17) -> 21938.25 | E18: =SUM(E14:E17) -> 22315.597 | F18: =SUM(F14:F17) -> 22885.877 | G18: =SUM(G14:G17) -> 28377.171 | M18: S/E & Liab.- Yr 3 | N18: =ROUND(E$26,0) -> 156581 | O18: 156581 | P18: =IF(N18=O18, "CORRECT", "INCORRECT") -> CORRECT | Q18: =IF(N18=O18, 1,0) -> 1
A19: Bank loan | C19: 60000 | D19: 40000 | E19: 20000 | F19: 0 | G19: 0 | M19: S/E & Liab.- Yr 4 | N19: =ROUND(F$26,0) -> 161082 | O19: 161082 | P19: =IF(N19=O19, "CORRECT", "INCORRECT") -> CORRECT | Q19: =IF(N19=O19, 1,0) -> 1
A20: Total Liabilities | C20: =C18+C19 -> 78635 | D20: =D18+D19 -> 61938.25 | E20: =E18+E19 -> 42315.597 | F20: =F18+F19 -> 22885.877 | G20: =G18+G19 -> 28377.171 | M20: S/E & Liab.- Yr 5 | N20: =ROUND(G$26,0) -> 193274 | O20: 193274 | P20: =IF(N20=O20, "CORRECT", "INCORRECT") -> CORRECT | Q20: =IF(N20=O20, 1,0) -> 1
P21: TOTAL | Q21: =SUM(Q4:Q20) -> 15
A22: Stockholder's Equity
A23: Capital | C23: 30000 | D23: 30000 | E23: 40000 | F23: 40000 | G23: 40000
A24: Retained Earnings | C24: ='Income Statement'!$C$19 -> 24765 | D24: =C24+'Income Statement'!D19 -> 51021.75 | E24: =D24+'Income Statement'!E19 -> 74265.003 | F24: =E24+'Income Statement'!F19 -> 98195.918 | G24: =F24+'Income Statement'!G19 -> 124896.38
A25: Total Stockholder's Equity | C25: =SUM(C23:C24) -> 54765 | D25: =SUM(D23:D24) -> 81021.75 | E25: =SUM(E23:E24) -> 114265 | F25: =SUM(F23:F24) -> 138195.92 | G25: =SUM(G23:G24) -> 164896.38
A26: Total Liabilities & Stockholder's Equity | C26: =C20+C25 -> 133400 | D26: =D20+D25 -> 142960 | E26: =E20+E25 -> 156580.6 | F26: =F20+F25 -> 161081.79 | G26: =G20+G25 -> 193273.55

Sheet Cashflow Statement
A1: CASHFLOW STATEMENT | I1: Assumptions | K1: Assumption Explanations | M1: GRADING
C3: YEAR 1 | D3: YEAR 2 | E3: YEAR 3 | F3: YEAR 4 | G3: YEAR 5 | M3: Cell Ref. | N3: Round | O3: Correct #s | P3: Correct/Incorrect | Q3: Points Awarded
M4: Operating - Yr 1 | N4: =ROUND(C$14,0) -> 36400 | O4: 36400 | P4: =IF(N4=O4, "CORRECT", "INCORRECT") -> CORRECT | Q4: =IF(N4=O4, 1,0) -> 1
A5: Net Income | C5: ='Income Statement'!C19 -> 24765 | D5: ='Income Statement'!D19 -> 26256.75 | E5: ='Income Statement'!E19 -> 23243.253 | F5: ='Income Statement'!F19 -> 23930.915 | G5: ='Income Statement'!G19 -> 26700.461 | M5: Operating - Yr 2 | N5: =ROUND(D$14,0) -> 18560 | O5: 18560 | P5: =IF(N5=O5, "CORRECT", "INCORRECT") -> CORRECT | Q5: =IF(N5=O5, 1,0) -> 1
A6: Add back depreciation | C6: ='Income Statement'!C14 -> 3000 | D6: ='Income Statement'!D14 -> 3000 | E6: ='Income Statement'!E14 -> 3000 | F6: ='Income Statement'!F14 -> 3000 | G6: ='Income Statement'!G14 -> 3000 | M6: Operating - Yr 3 | N6: =ROUND(E$14,0) -> 34621 | O6: 34621 | P6: =IF(N6=O6, "CORRECT", "INCORRECT") -> CORRECT | Q6: =IF(N6=O6, 1,0) -> 1
A7: Changes in working capital | M7: Operating - Yr 4 | N7: =ROUND(F$14,0) -> 33501 | O7: 33501 | P7: =IF(N7=O7, "CORRECT", "INCORRECT") -> CORRECT | Q7: =IF(N7=O7, 1,0) -> 1
A8: Accounts Receivable | C8: ='Balance Sheet'!B6-'Balance Sheet'!C6 -> -10000 | D8: ='Balance Sheet'!C6-'Balance Sheet'!D6 -> -2000 | E8: ='Balance Sheet'!D6-'Balance Sheet'!E6 -> 4000 | F8: ='Balance Sheet'!E6-'Balance Sheet'!F6 -> 2000 | G8: ='Balance Sheet'!F6-'Balance Sheet'!G6 -> -4000 | M8: Operating - Yr 5 | N8: =ROUND(G$14,0) -> 35192 | O8: 35192 | P8: =IF(N8=O8, "CORRECT", "INCORRECT") -> CORRECT | Q8: =IF(N8=O8, 1,0) -> 1
A9: Prepaid Expenses | C9: ='Balance Sheet'!B7-'Balance Sheet'!C7 -> 0 | D9: ='Balance Sheet'!C7-'Balance Sheet'!D7 -> -12000 | E9: ='Balance Sheet'!D7-'Balance Sheet'!E7 -> 4000 | F9: ='Balance Sheet'!E7-'Balance Sheet'!F7 -> 4000 | G9: ='Balance Sheet'!F7-'Balance Sheet'!G7 -> 4000
A10: Accounts Payable | C10: ='Balance Sheet'!C14-'Balance Sheet'!B14 -> 2000 | D10: ='Balance Sheet'!D14-'Balance Sheet'!C14 -> 2000 | E10: ='Balance Sheet'!E14-'Balance Sheet'!D14 -> 1000 | F10: ='Balance Sheet'!F14-'Balance Sheet'!E14 -> 1000 | G10: ='Balance Sheet'!G14-'Balance Sheet'!F14 -> 3000 | M10: Investing - Yr 1 | N10: =ROUND(C$19,0) -> -25000 | O10: -25000 | P10: =IF(N10=O10, "CORRECT", "INCORRECT") -> CORRECT | Q10: =IF(N10=O10, 1,0) -> 1
A11: Customer Deposits | C11: ='Balance Sheet'!C15-'Balance Sheet'!B15 -> 1500 | D11: ='Balance Sheet'!D15-'Balance Sheet'!C15 -> 500 | E11: ='Balance Sheet'!E15-'Balance Sheet'!D15 -> 1000 | F11: ='Balance Sheet'!F15-'Balance Sheet'!E15 -> 1000 | G11: ='Balance Sheet'!G15-'Balance Sheet'!F15 -> 1000 | M11: Investing - Yr 2 | N11: =ROUND(D$19,0) -> 0 | O11: 0 | P11: =IF(ISBLANK(D19),"INCORRECT",IF(D19=0,"CORRECT","INCORRECT")) -> CORRECT | Q11: =IF(P11="CORRECT", 1,0) -> 1
A12: Interest payable | C12: ='Balance Sheet'!C16-'Balance Sheet'!B16 -> 1800 | D12: ='Balance Sheet'!D16-'Balance Sheet'!C16 -> 0 | E12: ='Balance Sheet'!E16-'Balance Sheet'!D16 -> 0 | F12: ='Balance Sheet'!F16-'Balance Sheet'!E16 -> -1800 | G12: ='Balance Sheet'!G16-'Balance Sheet'!F16 -> 0 | M12: Investing - Yr 3 | N12: =ROUND(E$19,0) -> 0 | O12: 0 | P12: =IF(ISBLANK(E19),"INCORRECT",IF(E19=0,"CORRECT","INCORRECT")) -> CORRECT | Q12: =IF(P12="CORRECT", 1,0) -> 1
A13: Taxes Payable | C13: ='Balance Sheet'!C17-'Balance Sheet'!B17 -> 13335 | D13: ='Balance Sheet'!D17-'Balance Sheet'!C17 -> 803.25 | E13: ='Balance Sheet'!E17-'Balance Sheet'!D17 -> -1622.6525 | F13: ='Balance Sheet'!F17-'Balance Sheet'!E17 -> 370.27988 | G13: ='Balance Sheet'!G17-'Balance Sheet'!F17 -> 1491.2939 | M13: Investing - Yr 4 | N13: =ROUND(F$19,0) -> 0 | O13: 0 | P13: =IF(ISBLANK(F19),"INCORRECT",IF(F19=0,"CORRECT","INCORRECT")) -> CORRECT | Q13: =IF(P13="CORRECT", 1,0) -> 1
A14: Cash flows from operating activities | B14: =SUM(B5:B6,B8,B9,B10,B11,B13) -> 0 | C14: =SUM(C5:C13) -> 36400 | D14: =SUM(D5:D13) -> 18560 | E14: =SUM(E5:E13) -> 34620.6 | F14: =SUM(F5:F13) -> 33501.195 | G14: =SUM(G5:G13) -> 35191.755 | M14: Investing - Yr 5 | N14: =ROUND(G$19,0) -> 0 | O14: 0 | P14: =IF(ISBLANK(G19),"INCORRECT",IF(G19=0,"CORRECT","INCORRECT")) -> CORRECT | Q14: =IF(P14="CORRECT", 1,0) -> 1
M16: Financing- Yr 1 | N16: =ROUND(C$25,0) -> 60000 | O16: 60000 | P16: =IF(N16=O16, "CORRECT", "INCORRECT") -> CORRECT | Q16: =IF(N16=O16, 1,0) -> 1
A17: Amount paid for equipment | C17: -10000 | D17: 0 | E17: 0 | F17: 0 | G17: 0 | M17: Financing- Yr 2 | N17: =ROUND(D$25,0) -> -20000 | O17: -20000 | P17: =IF(N17=O17, "CORRECT", "INCORRECT") -> CORRECT | Q17: =IF(N17=O17, 1,0) -> 1
A18: Amount paid for furniture & fixtures | C18: -15000 | D18: 0 | E18: 0 | F18: 0 | G18: 0 | M18: Financing- Yr 3 | N18: =ROUND(E$25,0) -> -10000 | O18: -10000 | P18: =IF(N18=O18, "CORRECT", "INCORRECT") -> CORRECT | Q18: =IF(N18=O18, 1,0) -> 1
A19: Cash flow from investing activities | B19: =SUM(B17:B18) -> 0 | C19: -25000 | D19: 0 | E19: 0 | F19: 0 | G19: 0 | M19: Financing- Yr 4 | N19: =ROUND(F$25,0) -> -20000 | O19: -20000 | P19: =IF(N19=O19, "CORRECT", "INCORRECT") -> CORRECT | Q19: =IF(N19=O19, 1,0) -> 1
M20: Financing- Yr 5 | N20: =ROUND(G$225,0) -> 0 | O20: 0 | P20: =IF(ISBLANK(G25),"INCORRECT",IF(G25=0,"CORRECT","INCORRECT")) -> CORRECT | Q20: =IF(P20="CORRECT", 1,0) -> 1
A22: Proceeds from bank loan | C22: ='Balance Sheet'!C19-'Balance Sheet'!B19 -> 60000 | D22: 0 | E22: 0 | F22: 0 | G22: 0 | M22: Ending Cash Bal. - Yr 1 | N22: =ROUND(C$29,0) -> 101400 | O22: 101400 | P22: =IF(N22=O22, "CORRECT", "INCORRECT") -> CORRECT | Q22: =IF(N22=O22, 1,0) -> 1
A23: Proceeds from issuing capital | D23: ='Balance Sheet'!D23-'Balance Sheet'!C23 -> 0 | E23: ='Balance Sheet'!E23-'Balance Sheet'!D23 -> 10000 | F23: ='Balance Sheet'!F23-'Balance Sheet'!E23 -> 0 | G23: ='Balance Sheet'!G23-'Balance Sheet'!F23 -> 0 | M23: Ending Cash Bal. - Yr 2 | N23: =ROUND(D$29,0) -> 99960 | O23: 99960 | P23: =IF(N23=O23, "CORRECT", "INCORRECT") -> CORRECT | Q23: =IF(N23=O23, 1,0) -> 1
A24: Repayment of bank loan | C24: 0 | D24: ='Balance Sheet'!D19-'Balance Sheet'!C19 -> -20000 | E24: ='Balance Sheet'!E19-'Balance Sheet'!D19 -> -20000 | F24: ='Balance Sheet'!F19-'Balance Sheet'!E19 -> -20000 | G24: ='Balance Sheet'!G19-'Balance Sheet'!F19 -> 0 | M24: Ending Cash Bal. - Yr 3 | N24: =ROUND(E$29,0) -> 124581 | O24: 124581 | P24: =IF(N24=O24, "CORRECT", "INCORRECT") -> CORRECT | Q24: =IF(N24=O24, 1,0) -> 1
A25: Cash flow from financing activities | B25: =SUM(B22:B24) -> 0 | C25: =SUM(C22:C24) -> 60000 | D25: =SUM(D22:D24) -> -20000 | E25: =SUM(E22:E24) -> -10000 | F25: =SUM(F22:F24) -> -20000 | G25: =SUM(G22:G24) -> 0 | M25: Ending Cash Bal. - Yr 4 | N25: =ROUND(F$29,0) -> 138082 | O25: 138082 | P25: =IF(N25=O25, "CORRECT", "INCORRECT") -> CORRECT | Q25: =IF(N25=O25, 1,0) -> 1
M26: Ending Cash Bal. - Yr 5 | N26: =ROUND(G$29,0) -> 173274 | O26: 173274 | P26: =IF(N26=O26, "CORRECT", "INCORRECT") -> CORRECT | Q26: =IF(N26=O26, 1,0) -> 1
A27: Net increase (decrease) in cash | B27: =B14+B19+B25 -> 0 | C27: =C14+C19+C25 -> 71400 | D27: =D14+D19+D25 -> -1440 | E27: =E14+E19+E25 -> 24620.6 | F27: =F14+F19+F25 -> 13501.195 | G27: =G14+G19+G25 -> 35191.755 | P27: TOTAL | Q27: =SUM(Q4:Q26) -> 20
A28: Add: Beginning cash balance | C28: 30000 | D28: =C29 -> 101400 | E28: =D29 -> 99960 | F28: =E29 -> 124580.6 | G28: =F29 -> 138081.8
A29: Ending Cash balance | B29: =B27+B28 -> 0 | C29: =C27+C28 -> 101400 | D29: =D27+D28 -> 99960 | E29: =E27+E28 -> 124580.6 | F29: =F27+F28 -> 138081.8 | G29: =G27+G28 -> 173273.55

Sheet Ratios
A1: RATIOS | I1: Formulas | K1: Show Work | M1: GRADING
C3: YEAR 1 | D3: YEAR 2 | E3: YEAR 3 | F3: YEAR 4 | G3: YEAR 5 | K3: Hold Down "Ctrl" and push "Tilde" key to see work | M3: Cell Ref. | N3: Round | O3: Correct #s | P3: Points Awarded
A4: *ROUND TO TWO DECIMAL PLACES | M4: CR - Yr 1 | N4: =ROUND(C$5,2) -> 5.98 | O4: 5.98 | P4: =IF(N4=O4, 1,0) -> 1
A5: CURRENT RATIO | C5: =('Balance Sheet'!C8/'Balance Sheet'!C18) -> 5.9779984 | D5: =('Balance Sheet'!D8/'Balance Sheet'!D18) -> 5.6504051 | E5: =('Balance Sheet'!E8/'Balance Sheet'!E18) -> 6.2996566 | F5: =('Balance Sheet'!F8/'Balance Sheet'!F18) -> 6.4704443 | G5: =('Balance Sheet'!G8/'Balance Sheet'!G18) -> 6.4584855 | I5: Current ratio = Current assets ÷ Current liabilities | M5: CR - Yr 2 | N5: =ROUND(D$5,2) -> 5.65 | O5: 5.65 | P5: =IF(N5=O5, 1,0) -> 1
A6: AVERAGE COLLECTION PERIOD | C6: ='Balance Sheet'!C6/('Income Statement'!C4/365) -> 24.333333 | D6: ='Balance Sheet'!D6/('Income Statement'!D4/365) -> 28.349515 | E6: ='Balance Sheet'!E6/('Income Statement'!E4/365) -> 18.3492 | F6: ='Balance Sheet'!F6/('Income Statement'!F4/365) -> 13.106572 | G6: ='Balance Sheet'!G6/('Income Statement'!G4/365) -> 20.804082 | I6: Average Collection Period = Average Accounts Receivable / (Net Credit Sales / Number Of Days) | M6: CR - Yr 3 | N6: =ROUND(E$5,2) -> 6.3 | O6: 6.3 | P6: =IF(N6=O6, 1,0) -> 1
A7: PAYABLES TURNOVER | C7: ='Income Statement'!C5/'Balance Sheet'!C14 -> 33.75 | D7: ='Income Statement'!D5/'Balance Sheet'!D14 -> 17.38125 | E7: ='Income Statement'!E5/'Balance Sheet'!E14 -> 14.32215 | F7: ='Income Statement'!F5/'Balance Sheet'!F14 -> 12.531881 | G7: ='Income Statement'!G5/'Balance Sheet'!G14 -> 8.7723169 | I7: Net Sales/averrage Accounts recivable | M7: CR - Yr 4 | N7: =ROUND(F$5,2) -> 6.47 | O7: 6.47 | P7: =IF(N7=O7, 1,0) -> 1
A8: TOTAL ASSET TURNOVER | C8: ='Income Statement'!C4/'Balance Sheet'!C11 -> 1.1244378 | D8: ='Income Statement'!D4/'Balance Sheet'!D11 -> 1.0807219 | E8: ='Income Statement'!E4/'Balance Sheet'!E11 -> 1.0163136 | F8: ='Income Statement'!F4/'Balance Sheet'!F11 -> 1.03731 | G8: ='Income Statement'!G4/'Balance Sheet'!G11 -> 0.90776176 | I8: Revenue / Average Total Assets | M8: CR - Yr 5 | N8: =ROUND(G$5,2) -> 6.46 | O8: 6.46 | P8: =IF(N8=O8, 1,0) -> 1
A9: DEBT RATIO | C9: ='Balance Sheet'!C20/'Balance Sheet'!C11 -> 0.58946777 | D9: ='Balance Sheet'!D20/'Balance Sheet'!D11 -> 0.43325581 | E9: ='Balance Sheet'!E20/'Balance Sheet'!E11 -> 0.27024802 | F9: ='Balance Sheet'!F20/'Balance Sheet'!F11 -> 0.14207613 | G9: ='Balance Sheet'!G20/'Balance Sheet'!G11 -> 0.14682387 | I9: Total debt ÷ Total assets
A10: TIMES INTEREST EARNED | C10: =('Income Statement'!C19+'Income Statement'!C16+'Income Statement'!C18)/'Income Statement'!C16 -> 22.166667 | D10: =('Income Statement'!D19+'Income Statement'!D18+'Income Statement'!D16)/'Income Statement'!D16 -> 23.441667 | E10: =('Income Statement'!E19+'Income Statement'!E18+'Income Statement'!E16)/'Income Statement'!E16 -> 20.866028 | F10: 0 | G10: 0 | I10: Inerest earned ratio=Inc. from Operations/Interest expense | M10: AVG COLLECTION - Yr 1 | N10: =ROUND(C$6,2) -> 24.33 | O10: 24.33 | P10: =IF(N10=O10, 1,0) -> 1
A11: GROSS PROFIT MARGIN | C11: ='Income Statement'!C6/'Income Statement'!C4 -> 0.55 | D11: ='Income Statement'!D6/'Income Statement'!D4 -> 0.55 | E11: ='Income Statement'!E6/'Income Statement'!E4 -> 0.55 | F11: ='Income Statement'!F6/'Income Statement'!F4 -> 0.55 | G11: ='Income Statement'!G6/'Income Statement'!G4 -> 0.55 | I11: Gross Margin = Gross Profit / Revenue * 100 | M11: AVG COLLECTION - Yr 2 | N11: =ROUND(D$6,2) -> 28.35 | O11: 28.35 | P11: =IF(N11=O11, 1,0) -> 1
A12: NET PROFIT MARGIN | C12: ='Income Statement'!C19/'Income Statement'!C4 -> 0.1651 | D12: ='Income Statement'!D19/'Income Statement'!D4 -> 0.1699466 | E12: ='Income Statement'!E19/'Income Statement'!E4 -> 0.14605996 | F12: ='Income Statement'!F19/'Income Statement'!F4 -> 0.14322021 | G12: ='Income Statement'!G19/'Income Statement'!G4 -> 0.15218591 | I12: Net Profit Margin = Net Profit / Total Revenue | M12: AVG COLLECTION - Yr 3 | N12: =ROUND(E$6,2) -> 18.35 | O12: 18.35 | P12: =IF(N12=O12, 1,0) -> 1
A13: RETURN ON EQUITY | C13: ='Income Statement'!C19/'Balance Sheet'!C25 -> 0.45220488 | D13: ='Income Statement'!D19/'Balance Sheet'!D25 -> 0.32407039 | E13: ='Income Statement'!E19/'Balance Sheet'!E25 -> 0.20341532 | F13: ='Income Statement'!F19/'Balance Sheet'!F25 -> 0.17316659 | G13: ='Income Statement'!G19/'Balance Sheet'!G25 -> 0.16192266 | I13: Net income/Shareholder equity | M13: AVG COLLECTION - Yr 4 | N13: =ROUND(F$6,2) -> 13.11 | O13: 13.11 | P13: =IF(N13=O13, 1,0) -> 1
M14: AVG COLLECTION - Yr 5 | N14: =ROUND(G$6,2) -> 20.8 | O14: 20.8 | P14: =IF(N14=O14, 1,0) -> 1
M16: PAYABLES - Yr 1 | N16: =ROUND(C$7,2) -> 33.75 | O16: 33.75 | P16: =IF(N16=O16, 1,0) -> 1
M17: PAYABLES - Yr 2 | N17: =ROUND(D$7,2) -> 17.38 | O17: 17.38 | P17: =IF(N17=O17, 1,0) -> 1
M18: PAYABLES - Yr 3 | N18: =ROUND(E$7,2) -> 14.32 | O18: 14.32 | P18: =IF(N18=O18, 1,0) -> 1
M19: PAYABLES - Yr 4 | N19: =ROUND(F$7,2) -> 12.53 | O19: 12.53 | P19: =IF(N19=O19, 1,0) -> 1
M20: PAYABLES - Yr 5 | N20: =ROUND(G$7,2) -> 8.77 | O20: 8.77 | P20: =IF(N20=O20, 1,0) -> 1
M22: TOT. ASSET - Yr 1 | N22: =ROUND(C$8,2) -> 1.12 | O22: 1.12 | P22: =IF(N22=O22, 1,0) -> 1
M23: TOT. ASSET - Yr 2 | N23: =ROUND(D$8,2) -> 1.08 | O23: 1.08 | P23: =IF(N23=O23, 1,0) -> 1
M24: TOT. ASSET - Yr 3 | N24: =ROUND(E$8,2) -> 1.02 | O24: 1.02 | P24: =IF(N24=O24, 1,0) -> 1
M25: TOT. ASSET - Yr 4 | N25: =ROUND(F$8,2) -> 1.04 | O25: 1.04 | P25: =IF(N25=O25, 1,0) -> 1
M26: TOT. ASSET - Yr 5 | N26: =ROUND(G$8,2) -> 0.91 | O26: 0.91 | P26: =IF(N26=O26, 1,0) -> 1
M28: DEBT RATIO - Yr 1 | N28: =ROUND(C$9,2) -> 0.59 | O28: 0.59 | P28: =IF(N28=O28, 1,0) -> 1
M29: DEBT RATIO - Yr 2 | N29: =ROUND(D$9,2) -> 0.43 | O29: 0.43 | P29: =IF(N29=O29, 1,0) -> 1
M30: DEBT RATIO - Yr 3 | N30: =ROUND(E$9,2) -> 0.27 | O30: 0.27 | P30: =IF(N30=O30, 1,0) -> 1
M31: DEBT RATIO - Yr 4 | N31: =ROUND(F$9,2) -> 0.14 | O31: 0.14 | P31: =IF(N31=O31, 1,0) -> 1
M32: DEBT RATIO - Yr 5 | N32: =ROUND(G$9,2) -> 0.15 | O32: 0.15 | P32: =IF(N32=O32, 1,0) -> 1
M34: TIE - Yr 1 | N34: =ROUND(C$10,2) -> 22.17 | O34: 22.17 | P34: =IF(N34=O34, 1,0) -> 1
M35: TIE - Yr 2 | N35: =ROUND(D$10,2) -> 23.44 | O35: 23.44 | P35: =IF(N35=O35, 1,0) -> 1
M36: TIE - Yr 3 | N36: =ROUND(E$10,2) -> 20.87 | O36: 20.87 | P36: =IF(N36=O36, 1,0) -> 1
M37: TIE - Yr 4 | N37: =ROUND(F$10,2) -> 0 | O37: 0 | P37: =IF(ISBLANK(F10),"0",IF(F10=0,"1","0")) -> 1
M38: TIE - Yr 5 | N38: =ROUND(G$10,2) -> 0 | O38: 0 | P38: =IF(ISBLANK(G10),"0",IF(G10=0,"1","0")) -> 1
M40: GPM - Yr 1 | N40: =ROUND(C$11,2) -> 0.55 | O40: 0.55 | P40: =IF(N40=O40, 1,0) -> 1
M41: GPM - Yr 2 | N41: =ROUND(D$11,2) -> 0.55 | O41: 0.55 | P41: =IF(N41=O41, 1,0) -> 1
M42: GPM - Yr 3 | N42: =ROUND(E$11,2) -> 0.55 | O42: 0.55 | P42: =IF(N42=O42, 1,0) -> 1
M43: GPM - Yr 4 | N43: =ROUND(F$11,2) -> 0.55 | O43: 0.55 | P43: =IF(N43=O43, 1,0) -> 1
M44: GPM - Yr 5 | N44: =ROUND(G$11,2) -> 0.55 | O44: 0.55 | P44: =IF(N44=O44, 1,0) -> 1
M46: NPM - Yr 1 | N46: =ROUND(C$12,2) -> 0.17 | O46: 0.17 | P46: =IF(N46=O46, 1,0) -> 1
M47: NPM - Yr 2 | N47: =ROUND(D$12,2) -> 0.17 | O47: 0.17 | P47: =IF(N47=O47, 1,0) -> 1
...
